BEGIN:VCALENDAR
VERSION:2.0
PRODID:-//Santa Fe Conservation Trust - ECPv6.15.20//NONSGML v1.0//EN
CALSCALE:GREGORIAN
METHOD:PUBLISH
X-ORIGINAL-URL:https://sfct.org
X-WR-CALDESC:Events for Santa Fe Conservation Trust
REFRESH-INTERVAL;VALUE=DURATION:PT1H
X-Robots-Tag:noindex
X-PUBLISHED-TTL:PT1H
BEGIN:VTIMEZONE
TZID:America/Denver
BEGIN:DAYLIGHT
TZOFFSETFROM:-0700
TZOFFSETTO:-0600
TZNAME:MDT
DTSTART:20240310T090000
END:DAYLIGHT
BEGIN:STANDARD
TZOFFSETFROM:-0600
TZOFFSETTO:-0700
TZNAME:MST
DTSTART:20241103T080000
END:STANDARD
BEGIN:DAYLIGHT
TZOFFSETFROM:-0700
TZOFFSETTO:-0600
TZNAME:MDT
DTSTART:20250309T090000
END:DAYLIGHT
BEGIN:STANDARD
TZOFFSETFROM:-0600
TZOFFSETTO:-0700
TZNAME:MST
DTSTART:20251102T080000
END:STANDARD
BEGIN:DAYLIGHT
TZOFFSETFROM:-0700
TZOFFSETTO:-0600
TZNAME:MDT
DTSTART:20260308T090000
END:DAYLIGHT
BEGIN:STANDARD
TZOFFSETFROM:-0600
TZOFFSETTO:-0700
TZNAME:MST
DTSTART:20261101T080000
END:STANDARD
END:VTIMEZONE
BEGIN:VEVENT
DTSTART;TZID=America/Denver:20250910T090000
DTEND;TZID=America/Denver:20250910T120000
DTSTAMP:20260420T004711
CREATED:20250905T221411Z
LAST-MODIFIED:20250905T221635Z
UID:10000040-1757494800-1757505600@sfct.org
SUMMARY:Galisteo Basin Trail Work
DESCRIPTION:This week’s Wednesday Trail Work Day will be in the Galisteo Basin under the leadership of the Santa Fe Fat Tire Society.  Volunteers will meet up with Peter Stocker of SFFTS at the Thumb Trailhead at 9 am in order to conduct badly needed erosion control and trail restoration work in the wake of the recent major stormwater event there.  Please let me know if you are interested in joining and please feel free to cc Peter at peterstocker063@gmail.com \nIf you are planning on participating\, please fill out SFFTS’s online liability waiver which is available at https://app.waiverforever.com/pending/DVWs7eouam1427317473 . Bring work boots\, long pants/shirt sleeves\, sun protection\, snacks\, and water\, and maybe your favorite work gloves.  Peter will have the tools\, as well as loaner work gloves if you need them. \n \n 
URL:https://sfct.org/event/galisteo-basin-trail-work/
LOCATION:Galisteo Basin Trails\, Thumb Trailhead\, 111 New Moon Overlook Rd\,\, Lamy\, NM\, 87540
ORGANIZER;CN="Tim Rogers":MAILTO:tim@sfct.org
END:VEVENT
END:VCALENDAR